BEGIN:VCALENDAR
VERSION:2.0
PRODID:-//Ensemble Aventure - ECPv6.15.16//NONSGML v1.0//EN
CALSCALE:GREGORIAN
METHOD:PUBLISH
X-WR-CALNAME:Ensemble Aventure
X-ORIGINAL-URL:https://ensemble-aventure.de/?lang=en
X-WR-CALDESC:Events for Ensemble Aventure
REFRESH-INTERVAL;VALUE=DURATION:PT1H
X-Robots-Tag:noindex
X-PUBLISHED-TTL:PT1H
BEGIN:VTIMEZONE
TZID:Europe/Berlin
BEGIN:DAYLIGHT
TZOFFSETFROM:+0100
TZOFFSETTO:+0200
TZNAME:CEST
DTSTART:20250330T010000
END:DAYLIGHT
BEGIN:STANDARD
TZOFFSETFROM:+0200
TZOFFSETTO:+0100
TZNAME:CET
DTSTART:20251026T010000
END:STANDARD
BEGIN:DAYLIGHT
TZOFFSETFROM:+0100
TZOFFSETTO:+0200
TZNAME:CEST
DTSTART:20260329T010000
END:DAYLIGHT
BEGIN:STANDARD
TZOFFSETFROM:+0200
TZOFFSETTO:+0100
TZNAME:CET
DTSTART:20261025T010000
END:STANDARD
BEGIN:DAYLIGHT
TZOFFSETFROM:+0100
TZOFFSETTO:+0200
TZNAME:CEST
DTSTART:20270328T010000
END:DAYLIGHT
BEGIN:STANDARD
TZOFFSETFROM:+0200
TZOFFSETTO:+0100
TZNAME:CET
DTSTART:20271031T010000
END:STANDARD
END:VTIMEZONE
BEGIN:VEVENT
DTSTART;TZID=Europe/Berlin:20260430T200000
DTEND;TZID=Europe/Berlin:20260430T200000
DTSTAMP:20260420T172527
CREATED:20250925T165446Z
LAST-MODIFIED:20250925T165446Z
UID:10000086-1777579200-1777579200@ensemble-aventure.de
SUMMARY:Inside Out
DESCRIPTION:4 . 4th Season Concert\nIn cooperation with the Institute for Computer Music and Sound Technology – Zurich University of the Arts \nWhat happens when the everyday becomes raw material? When field recordings\, the sounds of weather\, urban noise\, and the resonances of our buildings are no longer just background\, but material for imagined soundscapes? This evening explores the thresholds between inner and outer worlds\, between what surrounds us and what we make of it.In the midst of an increasingly digital world\, tonight’s works return to a sensual connection with concrete space: Teresa Carrasco weaves natural materials\, cello\, and whispered poetry into a sonic reflection of the Gotland cave Lummellundagrottan. In blur\, Katharina Rosenberger lets nocturnal cities shimmer—like reflections of light on asphalt. And in his new work\, Micha Seidenberg probes the boundary between inside and outside: Where does the body end\, where does space begin? Here\, sound becomes the membrane between the two.This evening does not ask how art represents reality\, but how it creates new realities. It opposes digital transience with a tangible sensuality—and invites us to listen more closely: to what often remains hidden in the everyday.      \nWhat happens when the everyday becomes raw material?When field recordings\, the sounds of weather\, urban noise\, and the resonances of our buildings are no longer just background\, but material for imagined soundscapes? This evening explores the thresholds between inner and outer worlds\, between what surrounds us and what we make of it.In the midst of an increasingly digital world\, tonight’s works return to a sensual connection with concrete space: Teresa Carrasco weaves natural materials\, cello\, and whispered poetry into a sonic reflection of the Gotland cave Lummellundagrottan. In blur\, Katharina Rosenberger lets nocturnal cities shimmer—like reflections of light on asphalt. And in his new work\, Micha Seidenberg probes the boundary between inside and outside: Where does the body end\, where does space begin? Here\, sound becomes the membrane between the two.This evening does not ask how art represents reality\, but how it creates new realities. It sets tangible sensuality against digital transience—and invites us to listen more closely: to what often remains hidden in the everyday.    \nLuis Antunes Pena (*1973)\nNomás (2015)\nfor Ensemble and Electronics \nSéverine Ballon (*1980)\nChanst partagés (2023-24)\nfor Violoncello and Fixed Media \nKatharina Rosenberger (*1971)\nblur (2019)\nfor Ensemble \nTeresa Carrasco (*1980)\nLummellundagrottan (2012)\nfor Percussion\, Violoncello and nature elements \nMicha Seidenberg (*1984)\nNew Work (2026) (UA)\nfor Ensemble and Electronics \nConcerttalk with Prof. Dr. Eckart Altenmüller\, Music physiologist and neuroscientist \nAdmission: €20 / Reduced: €15\nFree entry for school pupils\, students & Freiburg Pass holdersTickets available at the evening box office or via:Verena.Fuchs@ensemble-aventure.de
URL:https://ensemble-aventure.de/event/inside-out/?lang=en
LOCATION:Elisabeth Schneider Stiftung\, Wilhelmstr. 17a\, Freiburg\, Deutschland
ATTACH;FMTTYPE=image/jpeg:https://ensemble-aventure.de/wp-content/uploads/2025/09/ELZ-03735-scaled.jpg
END:VEVENT
BEGIN:VEVENT
DTSTART;TZID=Europe/Berlin:20260516T200000
DTEND;TZID=Europe/Berlin:20260516T200000
DTSTAMP:20260420T172527
CREATED:20250925T171832Z
LAST-MODIFIED:20250925T171832Z
UID:10000087-1778961600-1778961600@ensemble-aventure.de
SUMMARY:[Bern] Inside Out @OnTour
DESCRIPTION:Inside Out\nIn cooperation with the Institute for Computer Music and Sound Technology – Zurich University of the Arts \nWhat happens when the everyday becomes raw material?When field recordings\, the sounds of weather\, urban noise\, and the resonances of our buildings are no longer just background\, but material for imagined soundscapes? This evening explores the thresholds between inner and outer worlds\, between what surrounds us and what we make of it.In the midst of an increasingly digital world\, tonight’s works return to a sensual connection with concrete space: Teresa Carrasco weaves natural materials\, cello\, and whispered poetry into a sonic reflection of the Gotland cave Lummellundagrottan. In blur\, Katharina Rosenberger lets nocturnal cities shimmer—like reflections of light on asphalt. And in his new work\, Micha Seidenberg probes the boundary between inside and outside: Where does the body end\, where does space begin? Here\, sound becomes the membrane between the two.      \nThis evening does not ask how art represents reality\, but how it creates new realities. It sets tangible sensuality against digital transience—and invites us to listen more closely: to what often remains hidden in the everyday.    \nLuis Antunes Pena (*1973)\nNomás (2015)\nfor Ensemble and Electronics \nSéverine Ballon (*1980)\nChanst partagés (2023-24)\nfor Violoncello and Fixed Media \nKatharina Rosenberger (*1971)\nblur (2019)\nfor Ensemble \nTeresa Carrasco (*1980)\nLummellundagrottan (2012)\nfor Percussion\, Violoncello and nature elements \nMicha Seidenberg (*1984)\nNew Work (2026) (UA)\nfor Ensemble and Electronics
URL:https://ensemble-aventure.de/event/bern-inside-out-ontour/?lang=en
LOCATION:Aula PROGR\, Waisenhausplatz 30\, Bern\, Bern\, 3011\, Switzerland
ATTACH;FMTTYPE=image/jpeg:https://ensemble-aventure.de/wp-content/uploads/2025/07/ELZ03941-scaled.jpg
END:VEVENT
BEGIN:VEVENT
DTSTART;TZID=Europe/Berlin:20260517T200000
DTEND;TZID=Europe/Berlin:20260517T200000
DTSTAMP:20260420T172527
CREATED:20250925T172042Z
LAST-MODIFIED:20250925T172042Z
UID:10000088-1779048000-1779048000@ensemble-aventure.de
SUMMARY:[Zürich] Inside Out @OnTour
DESCRIPTION:Inside Out\nIn cooperation with the Institute for Computer Music and Sound Technology – Zurich University of the Arts \nWhat happens when the everyday becomes raw material? When field recordings\, the sounds of weather\, urban noise\, and the resonances of our buildings are no longer just background\, but material for imagined soundscapes? This evening explores the thresholds between inner and outer worlds\, between what surrounds us and what we make of it.In the midst of an increasingly digital world\, tonight’s works return to a sensual connection with concrete space: Teresa Carrasco weaves natural materials\, cello\, and whispered poetry into a sonic reflection of the Gotland cave Lummellundagrottan. In blur\, Katharina Rosenberger lets nocturnal cities shimmer—like reflections of light on asphalt. And in his new work\, Micha Seidenberg probes the boundary between inside and outside: Where does the body end\, where does space begin? Here\, sound becomes the membrane between the two.This evening does not ask how art represents reality\, but how it creates new realities. It opposes digital transience with a tangible sensuality—and invites us to listen more closely: to what often remains hidden in the everyday.      \nWhat happens when the everyday becomes raw material?When field recordings\, the sounds of weather\, urban noise\, and the resonances of our buildings are no longer just background\, but material for imagined soundscapes? This evening explores the thresholds between inner and outer worlds\, between what surrounds us and what we make of it.In the midst of an increasingly digital world\, tonight’s works return to a sensual connection with concrete space: Teresa Carrasco weaves natural materials\, cello\, and whispered poetry into a sonic reflection of the Gotland cave Lummellundagrottan. In blur\, Katharina Rosenberger lets nocturnal cities shimmer—like reflections of light on asphalt. And in his new work\, Micha Seidenberg probes the boundary between inside and outside: Where does the body end\, where does space begin? Here\, sound becomes the membrane between the two.This evening does not ask how art represents reality\, but how it creates new realities. It sets tangible sensuality against digital transience—and invites us to listen more closely: to what often remains hidden in the everyday.    \nLuis Antunes Pena (*1973)\nNomás (2015)\nfor Ensemble and Electronics \nSéverine Ballon (*1980)\nChanst partagés (2023-24)\nfor Violoncello and Fixed Media \nKatharina Rosenberger (*1971)\nblur (2019)\nfor Ensemble \nTeresa Carrasco (*1980)\nLummellundagrottan (2012)\nfor Percussion\, Violoncello and nature elements \nMicha Seidenberg (*1984)\nNew Work (2026) (UA)\nfor Ensemble and Electronics
URL:https://ensemble-aventure.de/event/zuerich-inside-out-ontour/?lang=en
LOCATION:Kunstraum Walcheturm\, Kanonengasse 20\, Zürich\, Zürich\, 8004
ATTACH;FMTTYPE=image/jpeg:https://ensemble-aventure.de/wp-content/uploads/2025/07/ELZ03941-scaled.jpg
END:VEVENT
BEGIN:VEVENT
DTSTART;TZID=Europe/Berlin:20260521T200000
DTEND;TZID=Europe/Berlin:20260521T200000
DTSTAMP:20260420T172527
CREATED:20250925T165923Z
LAST-MODIFIED:20250925T165923Z
UID:10000089-1779393600-1779393600@ensemble-aventure.de
SUMMARY:In the In-Between Realm of Sounds
DESCRIPTION:5 . 5th Season Concert\nIn cooperation with intersonanzen – Brandenburgisches Fest der neuen Musik \nWorks by Thomas Gerwin (UA)\, Chikako Morishita (UA)\, Salvatore Sciarrino\, between others \nConcert talk with Iris Wolff\, Writer \nAdmission €20\, concessions €15; school pupils\, students & Freiburg Pass holders free\nTickets available on the evening box office or via: Verena.Fuchs@ensemble-aventure.de
URL:https://ensemble-aventure.de/event/in-the-in-between-realm-of-sounds/?lang=en
LOCATION:Elisabeth Schneider Stiftung\, Wilhelmstr. 17a\, Freiburg\, Deutschland
ATTACH;FMTTYPE=image/jpeg:https://ensemble-aventure.de/wp-content/uploads/2025/09/ELZ04113-scaled.jpg
END:VEVENT
BEGIN:VEVENT
DTSTART;TZID=Europe/Berlin:20260605T193000
DTEND;TZID=Europe/Berlin:20260605T193000
DTSTAMP:20260420T172527
CREATED:20250925T172246Z
LAST-MODIFIED:20250925T172246Z
UID:10000090-1780687800-1780687800@ensemble-aventure.de
SUMMARY:[Potsdam] In the In-Between Realm of Sounds @OnTour
DESCRIPTION:In cooperation with intersonanzen – Brandenburgisches Fest der neuen Musik \nWorks by Thomas Gerwin (UA)\, Chikako Morishita (UA)\, Salvatore Sciarrino\, between others
URL:https://ensemble-aventure.de/event/potsdam-in-the-in-between-realm-of-sounds-ontour/?lang=en
LOCATION:Palais Lichtenau\, Kurfürstenstr. 40\, Potsdam\, 14469\, Germany
ATTACH;FMTTYPE=image/jpeg:https://ensemble-aventure.de/wp-content/uploads/2025/07/ELZ03941-scaled.jpg
END:VEVENT
BEGIN:VEVENT
DTSTART;TZID=Europe/Berlin:20260606T103000
DTEND;TZID=Europe/Berlin:20260606T103000
DTSTAMP:20260420T172527
CREATED:20250925T172334Z
LAST-MODIFIED:20250925T172334Z
UID:10000091-1780741800-1780741800@ensemble-aventure.de
SUMMARY:[Eberswalde] In the In-Between Realm of Sounds @OnTour
DESCRIPTION:In cooperation with intersonanzen – Brandenburgisches Fest der neuen Musik \nWorks by Thomas Gerwin (UA)\, Chikako Morishita (UA)\, Salvatore Sciarrino\, between others
URL:https://ensemble-aventure.de/event/eberswalde-in-the-in-between-realm-of-sounds-ontour/?lang=en
LOCATION:Eberswalde
ATTACH;FMTTYPE=image/jpeg:https://ensemble-aventure.de/wp-content/uploads/2025/07/ELZ03941-scaled.jpg
END:VEVENT
BEGIN:VEVENT
DTSTART;TZID=Europe/Berlin:20260625T200000
DTEND;TZID=Europe/Berlin:20260625T200000
DTSTAMP:20260420T172527
CREATED:20250925T172523Z
LAST-MODIFIED:20250925T172523Z
UID:10000092-1782417600-1782417600@ensemble-aventure.de
SUMMARY:[Daegu\, Korea] @OnTour
DESCRIPTION:In Cooperation with Daegu Contemporary Music Festival
URL:https://ensemble-aventure.de/event/daegu-korea-ontour/2026-06-25/?lang=en
LOCATION:Daegu Concert House\, Korea\, Republic of
ATTACH;FMTTYPE=image/jpeg:https://ensemble-aventure.de/wp-content/uploads/2025/07/ELZ03941-scaled.jpg
END:VEVENT
BEGIN:VEVENT
DTSTART;TZID=Europe/Berlin:20260626T200000
DTEND;TZID=Europe/Berlin:20260626T200000
DTSTAMP:20260420T172527
CREATED:20250925T172523Z
LAST-MODIFIED:20250925T172523Z
UID:10000093-1782504000-1782504000@ensemble-aventure.de
SUMMARY:[Daegu\, Korea] @OnTour
DESCRIPTION:In Cooperation with Daegu Contemporary Music Festival
URL:https://ensemble-aventure.de/event/daegu-korea-ontour/2026-06-26/?lang=en
LOCATION:Daegu Concert House\, Korea\, Republic of
ATTACH;FMTTYPE=image/jpeg:https://ensemble-aventure.de/wp-content/uploads/2025/07/ELZ03941-scaled.jpg
END:VEVENT
BEGIN:VEVENT
DTSTART;TZID=Europe/Berlin:20260709T190000
DTEND;TZID=Europe/Berlin:20260709T190000
DTSTAMP:20260420T172527
CREATED:20250925T170200Z
LAST-MODIFIED:20250925T170200Z
UID:10000094-1783623600-1783623600@ensemble-aventure.de
SUMMARY:SPOTS – Erfüllte Augenblicke
DESCRIPTION:Open Air & Indoor\nPoetic\, sonorous\, entertaining\, scenic and suggestive miniatures \nAdmission €20\, reduced €15; school pupils\, students & Freiburg Pass holders free\nTickets available on the evening box office or via: Verena.Fuchs@ensemble-aventure.de
URL:https://ensemble-aventure.de/event/spots-erfuellte-augenblicke-3/?lang=en
LOCATION:Elisabeth Schneider Stiftung\, Wilhelmstr. 17a\, Freiburg\, Deutschland
ATTACH;FMTTYPE=image/jpeg:https://ensemble-aventure.de/wp-content/uploads/2025/09/ELZ-04110-scaled.jpg
END:VEVENT
END:VCALENDAR