BEGIN:VCALENDAR
VERSION:2.0
PRODID:-//Ensemble Aventure - ECPv6.15.16//NONSGML v1.0//EN
CALSCALE:GREGORIAN
METHOD:PUBLISH
X-WR-CALNAME:Ensemble Aventure
X-ORIGINAL-URL:https://ensemble-aventure.de
X-WR-CALDESC:Veranstaltungen für Ensemble Aventure
REFRESH-INTERVAL;VALUE=DURATION:PT1H
X-Robots-Tag:noindex
X-PUBLISHED-TTL:PT1H
BEGIN:VTIMEZONE
TZID:Europe/Berlin
BEGIN:DAYLIGHT
TZOFFSETFROM:+0100
TZOFFSETTO:+0200
TZNAME:CEST
DTSTART:20230326T010000
END:DAYLIGHT
BEGIN:STANDARD
TZOFFSETFROM:+0200
TZOFFSETTO:+0100
TZNAME:CET
DTSTART:20231029T010000
END:STANDARD
BEGIN:DAYLIGHT
TZOFFSETFROM:+0100
TZOFFSETTO:+0200
TZNAME:CEST
DTSTART:20240331T010000
END:DAYLIGHT
BEGIN:STANDARD
TZOFFSETFROM:+0200
TZOFFSETTO:+0100
TZNAME:CET
DTSTART:20241027T010000
END:STANDARD
BEGIN:DAYLIGHT
TZOFFSETFROM:+0100
TZOFFSETTO:+0200
TZNAME:CEST
DTSTART:20250330T010000
END:DAYLIGHT
BEGIN:STANDARD
TZOFFSETFROM:+0200
TZOFFSETTO:+0100
TZNAME:CET
DTSTART:20251026T010000
END:STANDARD
END:VTIMEZONE
BEGIN:VEVENT
DTSTART;TZID=Europe/Berlin:20241121T200000
DTEND;TZID=Europe/Berlin:20241121T200000
DTSTAMP:20260420T222801
CREATED:20240902T100310Z
LAST-MODIFIED:20241118T110012Z
UID:10000039-1732219200-1732219200@ensemble-aventure.de
SUMMARY:Portrait Hilda Paredes
DESCRIPTION:Hilda Paredes (*1957) gehört einer Generation mexikanischer Komponist:innen an\, die jede Trennung zwischen den Musikkulturen der nördlichen und südlichen Hemisphäre ignoriert und sich den oft spannungsgeladenen Beziehungen zwischen ihnen stellt. Ihr kraftvolles und poetisches Universum der Klänge schafft eine Kontinuität zwischen Vergangenheit und Gegenwart und überwindet zugleich Räume und Zeiten. \nHilda Paredes (*1957) \nSiphonophorae (2016)\nfür sechs Instrumente \nEpitafio (2021)\nfür Ensemble und Elektronik \nAltazor (2011)\nfür Bariton\, Ensemble und Live-Elektronik \nGuillermo Anzorena\, Bariton\nIn Kooperation mit dem SWR Experimentalstudio\nLive-elektronische Realisation: SWR Experimentalstudio | Thomas Hummel\, Klangregie \nEintritt 20 €\, ermäßigt 15 €; Schüler\, Studierende & Freiburg-Pass frei\nTickets an der Abendkasse oder über: Verena.Fuchs@ensemble-aventure.de
URL:https://ensemble-aventure.de/event/hilda-paredes/
LOCATION:Schlossbergsaal des SWR\, Kartäuserstraße 45\, Freiburg
ATTACH;FMTTYPE=image/jpeg:https://ensemble-aventure.de/wp-content/uploads/2024/09/saison24-25-7-07.jpg
END:VEVENT
END:VCALENDAR