BEGIN:VCALENDAR
VERSION:2.0
PRODID:-//Ensemble Aventure - ECPv6.15.16//NONSGML v1.0//EN
CALSCALE:GREGORIAN
METHOD:PUBLISH
X-WR-CALNAME:Ensemble Aventure
X-ORIGINAL-URL:https://ensemble-aventure.de
X-WR-CALDESC:Veranstaltungen für Ensemble Aventure
REFRESH-INTERVAL;VALUE=DURATION:PT1H
X-Robots-Tag:noindex
X-PUBLISHED-TTL:PT1H
BEGIN:VTIMEZONE
TZID:Europe/Berlin
BEGIN:DAYLIGHT
TZOFFSETFROM:+0100
TZOFFSETTO:+0200
TZNAME:CEST
DTSTART:20230326T010000
END:DAYLIGHT
BEGIN:STANDARD
TZOFFSETFROM:+0200
TZOFFSETTO:+0100
TZNAME:CET
DTSTART:20231029T010000
END:STANDARD
BEGIN:DAYLIGHT
TZOFFSETFROM:+0100
TZOFFSETTO:+0200
TZNAME:CEST
DTSTART:20240331T010000
END:DAYLIGHT
BEGIN:STANDARD
TZOFFSETFROM:+0200
TZOFFSETTO:+0100
TZNAME:CET
DTSTART:20241027T010000
END:STANDARD
BEGIN:DAYLIGHT
TZOFFSETFROM:+0100
TZOFFSETTO:+0200
TZNAME:CEST
DTSTART:20250330T010000
END:DAYLIGHT
BEGIN:STANDARD
TZOFFSETFROM:+0200
TZOFFSETTO:+0100
TZNAME:CET
DTSTART:20251026T010000
END:STANDARD
END:VTIMEZONE
BEGIN:VEVENT
DTSTART;TZID=Europe/Berlin:20240921T193000
DTEND;TZID=Europe/Berlin:20240921T193000
DTSTAMP:20260420T231227
CREATED:20240902T091046Z
LAST-MODIFIED:20240902T141346Z
UID:10000031-1726947000-1726947000@ensemble-aventure.de
SUMMARY:Liqa'at - Begegnungen
DESCRIPTION:Amr Okba (*1972) \nJust and Comprehensive Peace (2023) für Ensemble UA\nKompositionsauftrag\, finanziert durch die Ernst von Siemens Musikstiftung \nMaria Atallah (1993-2023) \nTamashī für Klavier\, Cello\, Klarinette und Flöte (2016-17) \nSamir Odeh-Tamimi (*1970) \nSolo für Viola (2016) \nBushra El Turk (*1981) \nMarionette für Flöte und Klavier (2008) \nAmir Khalaf (*1981) \nRib für Flöte\, Klarinette\, Violine und Violoncello (2022) DEA \nNehad El Sayed Ghazy (*1975) \nunder pressure für Ensemble (2024) UA\nKompositionsauftrag\, unterstützt von ProHelvetia\, Schweizer Kulturstiftung und Fondation SUISA \nHossam Mahmoud (*1965) \nAnfas für Ensemble (2024) UA\nKompositionsauftrag\, finanziert durch die Ernst von Siemens Musikstiftung \nYara Mekawei (*1987) \nSoundscapes from Cairo\, fixed media UA \ntraditionelle ägyptische Musik für Oud\, gespielt von Nehad El Sayed
URL:https://ensemble-aventure.de/event/liqaat-begegnungen-2/
LOCATION:Deutschlandfunk Kammermusiksaal\, Köln\, Raderberggürtel 40\, Köln\, 50968\, Deutschland
ATTACH;FMTTYPE=image/jpeg:https://ensemble-aventure.de/wp-content/uploads/2024/09/saison24-25-7-04.jpg
END:VEVENT
END:VCALENDAR