BEGIN:VCALENDAR
VERSION:2.0
PRODID:-//Ensemble Aventure - ECPv6.15.16//NONSGML v1.0//EN
CALSCALE:GREGORIAN
METHOD:PUBLISH
X-WR-CALNAME:Ensemble Aventure
X-ORIGINAL-URL:https://ensemble-aventure.de
X-WR-CALDESC:Veranstaltungen für Ensemble Aventure
REFRESH-INTERVAL;VALUE=DURATION:PT1H
X-Robots-Tag:noindex
X-PUBLISHED-TTL:PT1H
BEGIN:VTIMEZONE
TZID:Europe/Berlin
BEGIN:DAYLIGHT
TZOFFSETFROM:+0100
TZOFFSETTO:+0200
TZNAME:CEST
DTSTART:20240331T010000
END:DAYLIGHT
BEGIN:STANDARD
TZOFFSETFROM:+0200
TZOFFSETTO:+0100
TZNAME:CET
DTSTART:20241027T010000
END:STANDARD
BEGIN:DAYLIGHT
TZOFFSETFROM:+0100
TZOFFSETTO:+0200
TZNAME:CEST
DTSTART:20250330T010000
END:DAYLIGHT
BEGIN:STANDARD
TZOFFSETFROM:+0200
TZOFFSETTO:+0100
TZNAME:CET
DTSTART:20251026T010000
END:STANDARD
BEGIN:DAYLIGHT
TZOFFSETFROM:+0100
TZOFFSETTO:+0200
TZNAME:CEST
DTSTART:20260329T010000
END:DAYLIGHT
BEGIN:STANDARD
TZOFFSETFROM:+0200
TZOFFSETTO:+0100
TZNAME:CET
DTSTART:20261025T010000
END:STANDARD
END:VTIMEZONE
BEGIN:VEVENT
DTSTART;TZID=Europe/Berlin:20250927T190000
DTEND;TZID=Europe/Berlin:20250927T190000
DTSTAMP:20260420T223354
CREATED:20250801T073824Z
LAST-MODIFIED:20250806T081505Z
UID:10000058-1758999600-1758999600@ensemble-aventure.de
SUMMARY:[Fulda] Porträt Michael Quell zum 65. Geburtstag @OnTour
DESCRIPTION:Werke von Michael Quell \nEnsemble Aventure\nNatasha Sallès\, Sopran \nTickets: https://mainticket.reservix.de/p/reservix/event/2396104
URL:https://ensemble-aventure.de/event/fulda-portraet-michael-quell-zum-65-geburtstag/
LOCATION:Fürstensaal im Stadtschloss\, Schlossstraße 1\, Fulda\, 36037\, Germany
ATTACH;FMTTYPE=image/jpeg:https://ensemble-aventure.de/wp-content/uploads/2025/07/ELZ03941-scaled.jpg
END:VEVENT
END:VCALENDAR